BEGIN:VCALENDAR
VERSION:2.0
PRODID:-// - ECPv6.15.14//NONSGML v1.0//EN
CALSCALE:GREGORIAN
METHOD:PUBLISH
X-ORIGINAL-URL:https://akdslogistika.eu
X-WR-CALDESC:Događaji za 
REFRESH-INTERVAL;VALUE=DURATION:PT1H
X-Robots-Tag:noindex
X-PUBLISHED-TTL:PT1H
BEGIN:VTIMEZONE
TZID:UTC
BEGIN:STANDARD
TZOFFSETFROM:+0000
TZOFFSETTO:+0000
TZNAME:UTC
DTSTART:20220101T000000
END:STANDARD
END:VTIMEZONE
BEGIN:VEVENT
DTSTART;TZID=UTC:20231125T080000
DTEND;TZID=UTC:20231126T170000
DTSTAMP:20260424T155138
CREATED:20231114T090641Z
LAST-MODIFIED:20231114T090641Z
UID:4794-1700899200-1701018000@akdslogistika.eu
SUMMARY:13. Rally Show Santa Domenica 2023
DESCRIPTION:
URL:https://akdslogistika.eu/event/13-rally-show-santa-domenica-2023/
ORGANIZER;CN="AKK SVETA NEDELJA":MAILTO:info@rssd.hr
END:VEVENT
BEGIN:VEVENT
DTSTART;TZID=UTC:20230616T000000
DTEND;TZID=UTC:20230618T235900
DTSTAMP:20260424T155138
CREATED:20230302T230809Z
LAST-MODIFIED:20230519T075521Z
UID:631-1686873600-1687132740@akdslogistika.eu
SUMMARY:26. nagrada Radošić - Malačka 2023
DESCRIPTION:
URL:https://akdslogistika.eu/event/wrc-rally-sweden-2/
END:VEVENT
BEGIN:VEVENT
DTSTART;VALUE=DATE:20230616
DTEND;VALUE=DATE:20230619
DTSTAMP:20260424T155138
CREATED:20230302T230952Z
LAST-MODIFIED:20230609T124339Z
UID:635-1686873600-1687132799@akdslogistika.eu
SUMMARY:49. Zagreb Delta Rally
DESCRIPTION:
URL:https://akdslogistika.eu/event/wrc-croatia-rally/
ORGANIZER;CN="AK DELTA":MAILTO:ured@akdelta.hr
END:VEVENT
BEGIN:VEVENT
DTSTART;TZID=UTC:20230610T000000
DTEND;TZID=UTC:20230611T235900
DTSTAMP:20260424T155138
CREATED:20230513T094028Z
LAST-MODIFIED:20230519T074853Z
UID:4347-1686355200-1686527940@akdslogistika.eu
SUMMARY:15. Nagrada Dani Dubrave
DESCRIPTION:
URL:https://akdslogistika.eu/event/123/
END:VEVENT
BEGIN:VEVENT
DTSTART;TZID=UTC:20230603T080000
DTEND;TZID=UTC:20230604T200000
DTSTAMP:20260424T155138
CREATED:20230518T120650Z
LAST-MODIFIED:20230518T120650Z
UID:4730-1685779200-1685908800@akdslogistika.eu
SUMMARY:17. Nagrada Skradina 2023
DESCRIPTION:
URL:https://akdslogistika.eu/event/17-nagrada-skradina-2023/
ORGANIZER;CN="AK Mihovil":MAILTO:autoklubmihovil@gmail.com
END:VEVENT
BEGIN:VEVENT
DTSTART;TZID=UTC:20230525T080000
DTEND;TZID=UTC:20230527T200000
DTSTAMP:20260424T155138
CREATED:20230513T093219Z
LAST-MODIFIED:20230518T103604Z
UID:4333-1685001600-1685217600@akdslogistika.eu
SUMMARY:38. Rally Velenje 2023
DESCRIPTION:
URL:https://akdslogistika.eu/event/38-rally-velenje-2023/
END:VEVENT
BEGIN:VEVENT
DTSTART;VALUE=DATE:20230420
DTEND;VALUE=DATE:20230424
DTSTAMP:20260424T155138
CREATED:20230304T124526Z
LAST-MODIFIED:20230513T093651Z
UID:900-1681948800-1682294399@akdslogistika.eu
SUMMARY:WRC Croatia Rally 2023
DESCRIPTION:
URL:https://akdslogistika.eu/event/rally-test/
END:VEVENT
END:VCALENDAR